BEGIN:VCALENDAR
VERSION:2.0
PRODID:-//GalimaNature - ECPv6.15.20//NONSGML v1.0//EN
CALSCALE:GREGORIAN
METHOD:PUBLISH
X-WR-CALNAME:GalimaNature
X-ORIGINAL-URL:https://galimanature.fr
X-WR-CALDESC:Évènements pour GalimaNature
REFRESH-INTERVAL;VALUE=DURATION:PT1H
X-Robots-Tag:noindex
X-PUBLISHED-TTL:PT1H
BEGIN:VTIMEZONE
TZID:Europe/Paris
BEGIN:DAYLIGHT
TZOFFSETFROM:+0100
TZOFFSETTO:+0200
TZNAME:CEST
DTSTART:20240331T010000
END:DAYLIGHT
BEGIN:STANDARD
TZOFFSETFROM:+0200
TZOFFSETTO:+0100
TZNAME:CET
DTSTART:20241027T010000
END:STANDARD
BEGIN:DAYLIGHT
TZOFFSETFROM:+0100
TZOFFSETTO:+0200
TZNAME:CEST
DTSTART:20250330T010000
END:DAYLIGHT
BEGIN:STANDARD
TZOFFSETFROM:+0200
TZOFFSETTO:+0100
TZNAME:CET
DTSTART:20251026T010000
END:STANDARD
BEGIN:DAYLIGHT
TZOFFSETFROM:+0100
TZOFFSETTO:+0200
TZNAME:CEST
DTSTART:20260329T010000
END:DAYLIGHT
BEGIN:STANDARD
TZOFFSETFROM:+0200
TZOFFSETTO:+0100
TZNAME:CET
DTSTART:20261025T010000
END:STANDARD
END:VTIMEZONE
BEGIN:VEVENT
DTSTART;TZID=Europe/Paris:20250403T100000
DTEND;TZID=Europe/Paris:20250403T120000
DTSTAMP:20260425T200305
CREATED:20250113T112457Z
LAST-MODIFIED:20251204T191955Z
UID:2380-1743674400-1743681600@galimanature.fr
SUMMARY:Atelier peindre sa fleur de Bach🌺 (Atelier Peinture Bien-être Fleurs de Bach)
DESCRIPTION:Je vous invite à un moment de détente et bien-être\, juste pour Vous ! \n\nLaissez vous inspirer par votre fleur de Bach du moment pour créer votre composition colorée. Douceur\, apaisement\, harmonie et temps pour soi.\nLa santé naturelle\, c'est aussi prendre du temps pour soi.✨✨\nVenez plonger dans l’univers des fleurs de Bach pour trouver votre fleur du moment\, et découvrez quel message elle vous apporte aujourd’hui ✨ \nLaissez vous inspirer par son image et le texte qui l’accompagnent\, pour créer votre propre composition en laissant libre cours à votre inspiration . \n\n← Retour Merci pour votre réponse. ✨\n\n\n					\n						\n							\n							\n						\n						\n						\n						\n						\n							\n								\n									\n										\n										\n									\n									\n										\n										\n									\n								\n							\n						\n						\n							\n								\n									\n									\n										\n									\n									\n									\n								\n							\n						\n					\n				\n\n\n\nNom(obligatoire)\n\n \n			\n				\n					\n						\n						\n						\n					\n				\n				\n			 \n	\n\n\nE-mail(obligatoire)\n\n \n			\n				\n					\n						\n						\n						\n					\n				\n				\n			 \n	\n\n\nSite web\n\n \n			\n				\n					\n						\n						\n						\n					\n				\n				\n			 \n	\n\n\nMessage\n\n \n			\n				\n					\n						\n						\n						\n					\n				\n				\n			\n	\n	\n\n				\n					\n				\n						Envoyer
URL:https://galimanature.fr/event/atelier-peinture-fleur-de-bach/
LOCATION:Les Ateliers de la Brague\, 13 rue Pasteur\, MOUANS SARTOUX\, 06370\, France
ORGANIZER;CN="Magali HUGUES":MAILTO:galimanature@gmail.com
END:VEVENT
BEGIN:VEVENT
DTSTART;TZID=Europe/Paris:20250425T183000
DTEND;TZID=Europe/Paris:20250425T200000
DTSTAMP:20260425T200305
CREATED:20250113T100843Z
LAST-MODIFIED:20251205T151918Z
UID:2372-1745605800-1745611200@galimanature.fr
SUMMARY:Mes Rendez-Vous NatuRo 8 🌿 Ma pharmacie au naturel - atelier mes rendez vous naturo 8 ma pharmacie au naturel mouans-sartoux
DESCRIPTION:Ma trousse d’urgence pour les petits mots du quotidien. \n\n\n \n\nPlantes médicinales et pharmacie naturelle pour toute la famille\, que choisir ? \n  \nPhytothérapie\, aromathérapie\, eaux florales\, bourgeons\, fleurs de Bach… Découvrez comment complétez et/ou remplacez votre pharmacie avec des produits sains\, naturels\, efficaces pour toute la famille. \n\nAvec Magali Hugues\, conseillère en Plantes et Santé Naturelle
URL:https://galimanature.fr/event/ma-pharmacie-au-naturel/
LOCATION:Les Ateliers de la Brague\, 13 rue Pasteur\, MOUANS SARTOUX\, 06370\, France
ORGANIZER;CN="Magali HUGUES":MAILTO:galimanature@gmail.com
END:VEVENT
BEGIN:VEVENT
DTSTART;TZID=Europe/Paris:20250426T100000
DTEND;TZID=Europe/Paris:20250426T123000
DTSTAMP:20260425T200305
CREATED:20250320T073307Z
LAST-MODIFIED:20250418T063348Z
UID:2536-1745661600-1745670600@galimanature.fr
SUMMARY:🌿Atelier détox : la cure de printemps
DESCRIPTION:La cure de printemps\, une détox pour retrouver une belle énergie et une santé optimale.\nVenez découvrir les grands principes de la détox et ses contre-indications. \n\n\nAvec cet atelier détox : la cure de printemps\,\nApprenez comment une cure de saison\, drainante\, dépurative\, accompagnée d’astuces santé et d’une alimentation saine et de saison\,\npeut débarrasser votre organisme des toxines accumulées au fil du temps\,\nle régénérer\,\nbooster votre immunité.\n\nUn rituel à mettre en place chaque année pour gagner en santé\, en énergie\, en longévité.\n\n🫖Atelier herboristerie : fabriquez votre infusion détox personnalisée. \n-> Zoom sur les plantes du drainage\, conseils personnalisés et contre-indications. \n\n← Retour Merci pour votre réponse. ✨\n\n\n					\n						\n							\n							\n						\n						\n						\n						\n						\n							\n								\n									\n										\n										\n									\n									\n										\n										\n									\n								\n							\n						\n						\n							\n								\n									\n									\n										\n									\n									\n									\n								\n							\n						\n					\n				\n\n\n\nNom(obligatoire)\n\n \n			\n				\n					\n						\n						\n						\n					\n				\n				\n			 \n	\n\n\nE-mail(obligatoire)\n\n \n			\n				\n					\n						\n						\n						\n					\n				\n				\n			 \n	\n\n\nSite web\n\n \n			\n				\n					\n						\n						\n						\n					\n				\n				\n			 \n	\n\n\nMessage\n\n \n			\n				\n					\n						\n						\n						\n					\n				\n				\n			\n	\n	\n\n				\n					\n				\n						Envoyer
URL:https://galimanature.fr/event/%f0%9f%8c%bfatelier-detox-la-cure-de-printemps/
LOCATION:Zen en Yoga\, 270 route de Cannes\, GRASSE\, 06130\, France
ORGANIZER;CN="Magali HUGUES":MAILTO:galimanature@gmail.com
END:VEVENT
BEGIN:VEVENT
DTSTART;TZID=Europe/Paris:20250430T100000
DTEND;TZID=Europe/Paris:20250430T120000
DTSTAMP:20260425T200305
CREATED:20250408T125408Z
LAST-MODIFIED:20251204T191955Z
UID:2583-1746007200-1746014400@galimanature.fr
SUMMARY:🌸 Atelier peindre sa fleur de Bach (Atelier fleurs de Bach)
DESCRIPTION:Peindre sa fleur de Bach : (Re) découvrez l’univers apaisant et harmonisant des fleurs de Bach à travers cet atelier créatif.\n\n\nTrouvez votre fleur du moment et peignez les formes\, mots et couleurs qu’elle vous inspire. \nAucun besoin de savoir dessiner\, que vous soyez à l'aise avec la création ou pas\, l'essentiel est dans l'instant présent et l'immense bienfait que cette rencontre nous apporte.\nUn atelier créatif et convivial pour se poser\, lâcher le mental\, écrire\, peindre et dessiner\, se faire du bien et passer un moment tout en douceur\, \njuste pour vous. \nEn santé naturelle\, créer et prendre du temps pour soi sont des outils précieux.\n\n\n\nNom(obligatoire)
URL:https://galimanature.fr/event/atelier-peindre-sa-fleur-de-bach-2/
LOCATION:Les Ateliers de la Brague\, 13 rue Pasteur\, MOUANS SARTOUX\, 06370\, France
ORGANIZER;CN="Magali HUGUES":MAILTO:galimanature@gmail.com
END:VEVENT
END:VCALENDAR