BEGIN:VCALENDAR
VERSION:2.0
PRODID:-//GalimaNature - ECPv6.15.20//NONSGML v1.0//EN
CALSCALE:GREGORIAN
METHOD:PUBLISH
X-WR-CALNAME:GalimaNature
X-ORIGINAL-URL:https://galimanature.fr
X-WR-CALDESC:Évènements pour GalimaNature
REFRESH-INTERVAL;VALUE=DURATION:PT1H
X-Robots-Tag:noindex
X-PUBLISHED-TTL:PT1H
BEGIN:VTIMEZONE
TZID:Europe/Paris
BEGIN:DAYLIGHT
TZOFFSETFROM:+0100
TZOFFSETTO:+0200
TZNAME:CEST
DTSTART:20240331T010000
END:DAYLIGHT
BEGIN:STANDARD
TZOFFSETFROM:+0200
TZOFFSETTO:+0100
TZNAME:CET
DTSTART:20241027T010000
END:STANDARD
BEGIN:DAYLIGHT
TZOFFSETFROM:+0100
TZOFFSETTO:+0200
TZNAME:CEST
DTSTART:20250330T010000
END:DAYLIGHT
BEGIN:STANDARD
TZOFFSETFROM:+0200
TZOFFSETTO:+0100
TZNAME:CET
DTSTART:20251026T010000
END:STANDARD
BEGIN:DAYLIGHT
TZOFFSETFROM:+0100
TZOFFSETTO:+0200
TZNAME:CEST
DTSTART:20260329T010000
END:DAYLIGHT
BEGIN:STANDARD
TZOFFSETFROM:+0200
TZOFFSETTO:+0100
TZNAME:CET
DTSTART:20261025T010000
END:STANDARD
END:VTIMEZONE
BEGIN:VEVENT
DTSTART;TZID=Europe/Paris:20250315T100000
DTEND;TZID=Europe/Paris:20250315T123000
DTSTAMP:20260425T214109
CREATED:20250110T113203Z
LAST-MODIFIED:20250113T094341Z
UID:2354-1742032800-1742041800@galimanature.fr
SUMMARY:Mes Rendez-Vous NatuRo 7🌿 Atelier détox : la cure de printemps
DESCRIPTION:La cure de printemps\, une détox pour retrouver une belle énergie et une santé optimale.\n\nVenez découvrir les grands principes de la détox et ses contre-indications. \n\n\n\n\n\nApprenez comment une cure de saison\, drainante\, dépurative\, accompagnée d’astuces santé et d’une alimentation saine et de saison\, peut débarrasser votre organisme des toxines accumulées au fil du temps\, le régénérer et booster votre immunité. \n\nUn rituel à mettre en place chaque année pour gagner en santé\, en énergie\, en longévité. \n\n\n\n\n🫖Atelier herboristerie : fabriquez votre infusion détox personnalisée. \n\n\n\n-> Zoom sur les plantes du drainage\, conseils personnalisés et contre-indications. \n\n← Retour Merci pour votre réponse. ✨\n\n\n					\n						\n							\n							\n						\n						\n						\n						\n						\n							\n								\n									\n										\n										\n									\n									\n										\n										\n									\n								\n							\n						\n						\n							\n								\n									\n									\n										\n									\n									\n									\n								\n							\n						\n					\n				\n\n\n\nNom(obligatoire)\n\n \n			\n				\n					\n						\n						\n						\n					\n				\n				\n			 \n	\n\n\nE-mail(obligatoire)\n\n \n			\n				\n					\n						\n						\n						\n					\n				\n				\n			 \n	\n\n\nSite web\n\n \n			\n				\n					\n						\n						\n						\n					\n				\n				\n			 \n	\n\n\nMessage\n\n \n			\n				\n					\n						\n						\n						\n					\n				\n				\n			\n	\n	\n\n				\n					\n				\n						Envoyer
URL:https://galimanature.fr/event/la-detox-de-printemps/
LOCATION:Les Ateliers de la Brague\, 13 rue Pasteur\, MOUANS SARTOUX\, 06370\, France
END:VEVENT
BEGIN:VEVENT
DTSTART;TZID=Europe/Paris:20250328T143000
DTEND;TZID=Europe/Paris:20250328T170000
DTSTAMP:20260425T214109
CREATED:20250110T114247Z
LAST-MODIFIED:20250113T094512Z
UID:2357-1743172200-1743181200@galimanature.fr
SUMMARY:Mes Rendez-Vous NatuRo 7🌿Atelier détox  : la cure de printemps
DESCRIPTION:La cure de printemps\, une détox pour retrouver une belle énergie et une santé optimale.\n\nVenez découvrir les grands principes de la détox et ses contre-indications. \n\n\n\n\n\nApprenez comment une cure de saison\, drainante\, dépurative\, accompagnée d’astuces santé et d’une alimentation saine et de saison\, peut débarrasser votre organisme des toxines accumulées au fil du temps\, le régénérer et booster votre immunité. \n\nUn rituel à mettre en place chaque année pour gagner en santé\, en énergie\, en longévité. \n\n\n\n\n🫖Atelier herboristerie : fabriquez votre infusion détox personnalisée. \n\n\n\n-> Zoom sur les plantes du drainage\, conseils personnalisés et contre-indications. \n\n← Retour Merci pour votre réponse. ✨\n\n\n					\n						\n							\n							\n						\n						\n						\n						\n						\n							\n								\n									\n										\n										\n									\n									\n										\n										\n									\n								\n							\n						\n						\n							\n								\n									\n									\n										\n									\n									\n									\n								\n							\n						\n					\n				\n\n\n\nNom(obligatoire)\n\n \n			\n				\n					\n						\n						\n						\n					\n				\n				\n			 \n	\n\n\nE-mail(obligatoire)\n\n \n			\n				\n					\n						\n						\n						\n					\n				\n				\n			 \n	\n\n\nSite web\n\n \n			\n				\n					\n						\n						\n						\n					\n				\n				\n			 \n	\n\n\nMessage\n\n \n			\n				\n					\n						\n						\n						\n					\n				\n				\n			\n	\n	\n\n				\n					\n				\n						Envoyer
URL:https://galimanature.fr/event/la-cure-detox-de-printemps/
LOCATION:Les Ateliers de la Brague\, 13 rue Pasteur\, MOUANS SARTOUX\, 06370\, France
ORGANIZER;CN="Magali HUGUES":MAILTO:galimanature@gmail.com
END:VEVENT
BEGIN:VEVENT
DTSTART;TZID=Europe/Paris:20250329T093000
DTEND;TZID=Europe/Paris:20250329T123000
DTSTAMP:20260425T214109
CREATED:20250113T152156Z
LAST-MODIFIED:20251204T191955Z
UID:2382-1743240600-1743251400@galimanature.fr
SUMMARY:Atelier “Mon savon au naturel” 🫧 (atelier fabriquer son savon naturel)
DESCRIPTION:Initiez vous à la méthode ancestrale de la saponification à froid et apprenez à fabriquer des savons surgras respectueux de la peau et de l’environnement. \nRéalisez vos savons de A à Z sous les conseils de Magali Hugues\,conseillère en plantes et santé naturelle. \nSavons 100% fait maison\n\nEnsemble nous choisirons 2 recettes différentes.\nParmi les possibilités -> savon de Castille \, savon doux pour bébé et femme enceinte\, savon à barbe\, savon végan\, surgras\, au lait\, à l’argile\, aux fleurs\, à la cire d’abeille\, exfoliant\, parfumé …\nPréparation des produits utilisés et rappel des règles de sécurité dans l’emploi de la soude.\nRéalisation des savons en binômes.\nSaponification à froid\n\n\nRepartez avec vos connaissances en cosmétique naturelle et des fiches récapitulatives pour ne rien oublier et vous lancer dans la saponification à froid chez vous. \n👉 Vous aurez le choix entre : revenir chercher vos savons à l’atelier\, apporter vos propres moules\, ou acheter un moule sur place au tarif de 5 euros.
URL:https://galimanature.fr/event/atelier-mon-savon-au-naturel-2/
LOCATION:Les Ateliers de la Brague\, 13 rue Pasteur\, MOUANS SARTOUX\, 06370\, France
ORGANIZER;CN="Magali HUGUES":MAILTO:galimanature@gmail.com
END:VEVENT
END:VCALENDAR