BEGIN:VCALENDAR
VERSION:2.0
PRODID:-//GalimaNature - ECPv6.15.20//NONSGML v1.0//EN
CALSCALE:GREGORIAN
METHOD:PUBLISH
X-WR-CALNAME:GalimaNature
X-ORIGINAL-URL:https://galimanature.fr
X-WR-CALDESC:Évènements pour GalimaNature
REFRESH-INTERVAL;VALUE=DURATION:PT1H
X-Robots-Tag:noindex
X-PUBLISHED-TTL:PT1H
BEGIN:VTIMEZONE
TZID:Europe/Paris
BEGIN:DAYLIGHT
TZOFFSETFROM:+0100
TZOFFSETTO:+0200
TZNAME:CEST
DTSTART:20220327T010000
END:DAYLIGHT
BEGIN:STANDARD
TZOFFSETFROM:+0200
TZOFFSETTO:+0100
TZNAME:CET
DTSTART:20221030T010000
END:STANDARD
BEGIN:DAYLIGHT
TZOFFSETFROM:+0100
TZOFFSETTO:+0200
TZNAME:CEST
DTSTART:20230326T010000
END:DAYLIGHT
BEGIN:STANDARD
TZOFFSETFROM:+0200
TZOFFSETTO:+0100
TZNAME:CET
DTSTART:20231029T010000
END:STANDARD
BEGIN:DAYLIGHT
TZOFFSETFROM:+0100
TZOFFSETTO:+0200
TZNAME:CEST
DTSTART:20240331T010000
END:DAYLIGHT
BEGIN:STANDARD
TZOFFSETFROM:+0200
TZOFFSETTO:+0100
TZNAME:CET
DTSTART:20241027T010000
END:STANDARD
BEGIN:DAYLIGHT
TZOFFSETFROM:+0100
TZOFFSETTO:+0200
TZNAME:CEST
DTSTART:20250330T010000
END:DAYLIGHT
BEGIN:STANDARD
TZOFFSETFROM:+0200
TZOFFSETTO:+0100
TZNAME:CET
DTSTART:20251026T010000
END:STANDARD
END:VTIMEZONE
BEGIN:VEVENT
DTSTART;TZID=Europe/Paris:20240319T100000
DTEND;TZID=Europe/Paris:20240319T120000
DTSTAMP:20260425T015027
CREATED:20240109T110410Z
LAST-MODIFIED:20240110T084352Z
UID:1521-1710842400-1710849600@galimanature.fr
SUMMARY:Atelier Art & Nature : Peindre sa fleur de Bach
DESCRIPTION:Accueil › temps pour soi\n\n\nDécouvrez l'univers apaisant et harmonisant des fleurs de Bach en créant votre propre composition avec votre fleur du moment.\nFleur de Bach\, atelier peinture des fleurs\nJe vous propose de vous accompagner à la rencontre de votre fleur du moment\, pour vous en imprégner et créer votre propre composition sur papier aquarelle. \n\n\nPlongez dans l'univers des fleurs de Bach\,\ndécouvrez votre fleur du moment et créez une composition colorée avec les mots\, formes et couleurs qu’elle vous inspire.\n\n\n Nul besoin de savoir dessiner\, figuratif ou abstrait\, laissez votre spontanéité et votre imagination œuvrer pour vous.\n\n\n\nCréativité\, douceur\, harmonie\, peinture\, écriture\, instant présent… leurs messages vous accompagnera tout au long de vos journées.\nMais au fait…qui sont donc ces fleurs guérisseuses ?\n\n\n← Retour Merci pour votre réponse. ✨\n\n\n					\n						\n							\n							\n						\n						\n						\n						\n						\n							\n								\n									\n										\n										\n									\n									\n										\n										\n									\n								\n							\n						\n						\n							\n								\n									\n									\n										\n									\n									\n									\n								\n							\n						\n					\n				\n\n\n\nNom(obligatoire)\n\n \n			\n				\n					\n						\n						\n						\n					\n				\n				\n			 \n	\n\n\nE-mail(obligatoire)\n\n \n			\n				\n					\n						\n						\n						\n					\n				\n				\n			 \n	\n\n\nSite web\n\n \n			\n				\n					\n						\n						\n						\n					\n				\n				\n			 \n	\n\n\nMessage\n\n \n			\n				\n					\n						\n						\n						\n					\n				\n				\n			\n	\n	\n\n				\n					\n				\n						Envoyer
URL:https://galimanature.fr/event/atelier-art-nature-peindre-sa-fleur-de-bach-3/
LOCATION:Les Ateliers de la Brague\, 13 rue Pasteur\, MOUANS SARTOUX\, 06370\, France
ORGANIZER;CN="Magali HUGUES":MAILTO:galimanature@gmail.com
END:VEVENT
BEGIN:VEVENT
DTSTART;TZID=Europe/Paris:20240316T143000
DTEND;TZID=Europe/Paris:20240316T170000
DTSTAMP:20260425T015027
CREATED:20240117T095421Z
LAST-MODIFIED:20240130T124722Z
UID:1537-1710599400-1710608400@galimanature.fr
SUMMARY:Atelier Art\, Nature & Sophrologie (Callian) : Peindre sa fleur de Bach
DESCRIPTION:Accueil › temps pour soi\n\n« Rencontre avec une fleur  » à Callian (06) \n10h-12h30  ou  14h30-17h00\n\nVenez découvrir l’univers subtil des fleurs de Bach\, trouvez votre fleur du moment et peignez les couleurs\, formes et mots qu’elle vous inspire. \n\n\n\nInstant Sophro : Se relaxer\, inspirer\, expirer\, créer sa fleur en peinture.\n\nCôté Art & Nature : Plongez dans l’univers des fleurs de Bach\, découvrez votre fleur du moment et son message et créez une composition colorée avec les mots\, formes et couleurs qu’elle vous inspire.\n\n Nul besoin de savoir dessiner\, figuratif ou abstrait\, laissez votre spontanéité et votre imagination œuvrer pour vous.\n\n\n Créativité\, douceur\, harmonie\, peinture\, écriture\, instant présent… leurs messages vous accompagnera tout au long de vos journées.\nMais au fait…qui sont donc ces fleurs guérisseuses ?\n\n\n← Retour Merci pour votre réponse. ✨\n\n\n					\n						\n							\n							\n						\n						\n						\n						\n						\n							\n								\n									\n										\n										\n									\n									\n										\n										\n									\n								\n							\n						\n						\n							\n								\n									\n									\n										\n									\n									\n									\n								\n							\n						\n					\n				\n\n\n\nNom(obligatoire)\n\n \n			\n				\n					\n						\n						\n						\n					\n				\n				\n			 \n	\n\n\nE-mail(obligatoire)\n\n \n			\n				\n					\n						\n						\n						\n					\n				\n				\n			 \n	\n\n\nSite web\n\n \n			\n				\n					\n						\n						\n						\n					\n				\n				\n			 \n	\n\n\nMessage\n\n \n			\n				\n					\n						\n						\n						\n					\n				\n				\n			\n	\n	\n\n				\n					\n				\n						Envoyer
URL:https://galimanature.fr/event/atelier-art-nature-sophrologie-callian-peindre-sa-fleur-de-bach/
LOCATION:Callian\, 06\, France
ORGANIZER;CN="Magali HUGUES":MAILTO:galimanature@gmail.com
END:VEVENT
BEGIN:VEVENT
DTSTART;TZID=Europe/Paris:20240302T100000
DTEND;TZID=Europe/Paris:20240302T120000
DTSTAMP:20260425T015027
CREATED:20231116T180039Z
LAST-MODIFIED:20251204T191956Z
UID:1434-1709373600-1709380800@galimanature.fr
SUMMARY:Atelier Art & Nature : Peindre sa fleur de Bach (art thérapie)
DESCRIPTION:Accueil › temps pour soi\n\n\nPEINDRE SA FLEUR DE BACH \nJe vous propose de vous accompagner à la rencontre de votre fleur du moment\, pour vous en imprégner et créer votre propre composition sur papier aquarelle. \nFleur de Bach\, atelier art & peinture\n\n\nPlongez dans l'univers des fleurs de Bach\,\ndécouvrez votre fleur du moment et créez une composition colorée avec les mots\, formes et couleurs qu’elle vous inspire.\n\n Nul besoin de savoir dessiner\, figuratif ou abstrait\, laissez votre spontanéité et votre imagination œuvrer pour vous.\n\n\n\nCréativité\, douceur\, harmonie\, peinture\, écriture\, instant présent… leurs messages vous accompagnera tout au long de vos journées.\nMais au fait…qui sont donc ces fleurs guérisseuses ?\n\n\n\n\n\n← Retour Merci pour votre réponse. ✨\n\n\n					\n						\n							\n							\n						\n						\n						\n						\n						\n							\n								\n									\n										\n										\n									\n									\n										\n										\n									\n								\n							\n						\n						\n							\n								\n									\n									\n										\n									\n									\n									\n								\n							\n						\n					\n				\n\n\n\nNom(obligatoire)\n\n \n			\n				\n					\n						\n						\n						\n					\n				\n				\n			 \n	\n\n\nE-mail(obligatoire)\n\n \n			\n				\n					\n						\n						\n						\n					\n				\n				\n			 \n	\n\n\nSite web\n\n \n			\n				\n					\n						\n						\n						\n					\n				\n				\n			 \n	\n\n\nMessage\n\n \n			\n				\n					\n						\n						\n						\n					\n				\n				\n			\n	\n	\n\n				\n					\n				\n						Envoyer		\n		\n		\n	 \n\n\n\n← Retour Merci pour votre réponse. ✨\n\n\n					\n						\n							\n							\n						\n						\n						\n						\n						\n							\n								\n									\n										\n										\n									\n									\n										\n										\n									\n								\n							\n						\n						\n							\n								\n									\n									\n										\n									\n									\n									\n								\n							\n						\n					\n				\n\n\n\nNom(obligatoire)\n\n \n			\n				\n					\n						\n						\n						\n					\n				\n				\n			 \n	\n\n\nE-mail(obligatoire)\n\n \n			\n				\n					\n						\n						\n						\n					\n				\n				\n			 \n	\n\n\nSite web\n\n \n			\n				\n					\n						\n						\n						\n					\n				\n				\n			 \n	\n\n\nMessage\n\n \n			\n				\n					\n						\n						\n						\n					\n				\n				\n			\n	\n	\n\n				\n					\n				\n						Envoyer
URL:https://galimanature.fr/event/atelier-art-nature-2/
LOCATION:Les Ateliers de la Brague\, 13 rue Pasteur\, MOUANS SARTOUX\, 06370\, France
ORGANIZER;CN="Magali HUGUES":MAILTO:galimanature@gmail.com
END:VEVENT
BEGIN:VEVENT
DTSTART;TZID=Europe/Paris:20240220T100000
DTEND;TZID=Europe/Paris:20240220T120000
DTSTAMP:20260425T015027
CREATED:20231220T123226Z
LAST-MODIFIED:20251204T191956Z
UID:1473-1708423200-1708430400@galimanature.fr
SUMMARY:Atelier Art & Nature : Peindre sa fleur de Bach (art thérapie)
DESCRIPTION:Accueil › temps pour soi\n\n\n\nDécouvrez l'univers apaisant et harmonisant des fleurs de Bach en créant votre propre composition avec votre fleur du moment.\nJe vous propose de vous accompagner à la rencontre de votre fleur du moment\, pour vous en imprégner et créer votre propre composition sur papier aquarelle. \nFleur de Bach\, atelier art & peinture\n\n\nPlongez dans l'univers des fleurs de Bach\,\ndécouvrez votre fleur du moment et créez une composition colorée avec les mots\, formes et couleurs qu’elle vous inspire.\n\n\n Nul besoin de savoir dessiner\, figuratif ou abstrait\, laissez votre spontanéité et votre imagination œuvrer pour vous.\n\n\n\nCréativité\, douceur\, harmonie\, peinture\, écriture\, instant présent… leurs messages vous accompagnera tout au long de vos journées.\nMais au fait…qui sont donc ces fleurs guérisseuses ?\n\n\n← Retour Merci pour votre réponse. ✨\n\n\n					\n						\n							\n							\n						\n						\n						\n						\n						\n							\n								\n									\n										\n										\n									\n									\n										\n										\n									\n								\n							\n						\n						\n							\n								\n									\n									\n										\n									\n									\n									\n								\n							\n						\n					\n				\n\n\n\nNom(obligatoire)\n\n \n			\n				\n					\n						\n						\n						\n					\n				\n				\n			 \n	\n\n\nE-mail(obligatoire)\n\n \n			\n				\n					\n						\n						\n						\n					\n				\n				\n			 \n	\n\n\nSite web\n\n \n			\n				\n					\n						\n						\n						\n					\n				\n				\n			 \n	\n\n\nMessage\n\n \n			\n				\n					\n						\n						\n						\n					\n				\n				\n			\n	\n	\n\n				\n					\n				\n						Envoyer
URL:https://galimanature.fr/event/atelier-art-nature-peindre-sa-fleur-de-bach-2/
LOCATION:Les Ateliers de la Brague\, 13 rue Pasteur\, MOUANS SARTOUX\, 06370\, France
ORGANIZER;CN="Magali HUGUES":MAILTO:galimanature@gmail.com
END:VEVENT
BEGIN:VEVENT
DTSTART;TZID=Europe/Paris:20240210T100000
DTEND;TZID=Europe/Paris:20240210T120000
DTSTAMP:20260425T015027
CREATED:20231127T120722Z
LAST-MODIFIED:20251204T191956Z
UID:1453-1707559200-1707566400@galimanature.fr
SUMMARY:Atelier Art & Nature (Toulon): Peindre sa fleur de Bach (art thérapie)
DESCRIPTION:Accueil › temps pour soi\n\nVenez découvrir l'univers apaisant et harmonisant des fleurs de Bach en créant votre propre composition aquarellée.\nFleur de Bach\, atelier art & peinture\n\nPlongez dans l'univers des fleurs de Bach\,\ndécouvrez votre fleur du moment et créez une composition colorée avec les mots\, formes et couleurs qu’elle vous inspire\n\n  \n  \n\n\nNul besoin de savoir dessiner\, figuratif ou abstrait\, laissez votre spontanéité et votre imagination œuvrer pour vous.\n\n\n\nCréativité\, douceur\, harmonie\, peinture\, écriture\, instant présent… leurs messages vous accompagnera tout au long de vos journées.\nMais au fait…qui sont donc ces fleurs guérisseuses ?\n\n\n← Retour Merci pour votre réponse. ✨\n\n\n					\n						\n							\n							\n						\n						\n						\n						\n						\n							\n								\n									\n										\n										\n									\n									\n										\n										\n									\n								\n							\n						\n						\n							\n								\n									\n									\n										\n									\n									\n									\n								\n							\n						\n					\n				\n\n\n\nNom(obligatoire)\n\n \n			\n				\n					\n						\n						\n						\n					\n				\n				\n			 \n	\n\n\nE-mail(obligatoire)\n\n \n			\n				\n					\n						\n						\n						\n					\n				\n				\n			 \n	\n\n\nSite web\n\n \n			\n				\n					\n						\n						\n						\n					\n				\n				\n			 \n	\n\n\nMessage\n\n \n			\n				\n					\n						\n						\n						\n					\n				\n				\n			\n	\n	\n\n				\n					\n				\n						Envoyer		\n		\n		\n	 \n\n\n\n\n\n← Retour Merci pour votre réponse. ✨\n\n\n					\n						\n							\n							\n						\n						\n						\n						\n						\n							\n								\n									\n										\n										\n									\n									\n										\n										\n									\n								\n							\n						\n						\n							\n								\n									\n									\n										\n									\n									\n									\n								\n							\n						\n					\n				\n\n\n\nNom(obligatoire)\n\n \n			\n				\n					\n						\n						\n						\n					\n				\n				\n			 \n	\n\n\nE-mail(obligatoire)\n\n \n			\n				\n					\n						\n						\n						\n					\n				\n				\n			 \n	\n\n\nSite web\n\n \n			\n				\n					\n						\n						\n						\n					\n				\n				\n			 \n	\n\n\nMessage\n\n \n			\n				\n					\n						\n						\n						\n					\n				\n				\n			\n	\n	\n\n				\n					\n				\n						Envoyer
URL:https://galimanature.fr/event/atelier-art-nature-peindre-sa-fleur-de-bach/
LOCATION:Atelier de peinture les Foucards\, 2410 avenue de la résistance\, Toulon\, 83000
ORGANIZER;CN="Magali HUGUES":MAILTO:galimanature@gmail.com
END:VEVENT
BEGIN:VEVENT
DTSTART;TZID=Europe/Paris:20240203T100000
DTEND;TZID=Europe/Paris:20240203T120000
DTSTAMP:20260425T015027
CREATED:20231116T175117Z
LAST-MODIFIED:20251204T191956Z
UID:1432-1706954400-1706961600@galimanature.fr
SUMMARY:Atelier Art & Nature : peindre sa fleur de Bach (art thérapie)
DESCRIPTION:Accueil › temps pour soi\n\n\nDécouvrez l'univers apaisant et harmonisant des fleurs de Bach en créant votre propre composition avec votre fleur du moment.\nJe vous propose de vous accompagner à la rencontre de votre fleur du moment\, pour vous en imprégner et créer votre propre composition sur papier aquarelle. \nFleur de Bach\, atelier art & peinture\n\n\nPlongez dans l'univers des fleurs de Bach\,\ndécouvrez votre fleur du moment et créez une composition colorée avec les mots\, formes et couleurs qu’elle vous inspire.\n\n\n Nul besoin de savoir dessiner\, figuratif ou abstrait\, laissez votre spontanéité et votre imagination œuvrer pour vous.\n\n\n\nCréativité\, douceur\, harmonie\, peinture\, écriture\, instant présent… leurs messages vous accompagnera tout au long de vos journées.\nMais au fait…qui sont donc ces fleurs guérisseuses ?\n\n\n← Retour Merci pour votre réponse. ✨\n\n\n					\n						\n							\n							\n						\n						\n						\n						\n						\n							\n								\n									\n										\n										\n									\n									\n										\n										\n									\n								\n							\n						\n						\n							\n								\n									\n									\n										\n									\n									\n									\n								\n							\n						\n					\n				\n\n\n\nNom(obligatoire)\n\n \n			\n				\n					\n						\n						\n						\n					\n				\n				\n			 \n	\n\n\nE-mail(obligatoire)\n\n \n			\n				\n					\n						\n						\n						\n					\n				\n				\n			 \n	\n\n\nSite web\n\n \n			\n				\n					\n						\n						\n						\n					\n				\n				\n			 \n	\n\n\nMessage\n\n \n			\n				\n					\n						\n						\n						\n					\n				\n				\n			\n	\n	\n\n				\n					\n				\n						Envoyer		\n		\n		\n	 \n\n\n 
URL:https://galimanature.fr/event/atelier-art-nature/
LOCATION:Les Ateliers de la Brague\, 13 rue Pasteur\, MOUANS SARTOUX\, 06370\, France
END:VEVENT
BEGIN:VEVENT
DTSTART;TZID=Europe/Paris:20240113T143000
DTEND;TZID=Europe/Paris:20240210T170000
DTSTAMP:20260425T015027
CREATED:20231220T114600Z
LAST-MODIFIED:20240117T095012Z
UID:1464-1705156200-1707584400@galimanature.fr
SUMMARY:Atelier Art\, Nature & Sophrologie (Callian) : Peindre sa fleur de Bach
DESCRIPTION:Accueil › temps pour soi\n\n« Rencontre avec une fleur  » à Callian (06)\n\nVenez découvrir l’univers subtil des fleurs de Bach\, trouvez votre fleur du moment et peignez les couleurs\, formes et mots qu’elle vous inspire. \n\n\n\nInstant Sophro : Se relaxer\, inspirer\, expirer\, créer sa fleur en peinture.\n\nCôté Art & Nature : Plongez dans l’univers des fleurs de Bach\, découvrez votre fleur du moment et créez une composition colorée avec les mots\, formes et couleurs qu’elle vous inspire.\n\n Nul besoin de savoir dessiner\, figuratif ou abstrait\, laissez votre spontanéité et votre imagination œuvrer pour vous.\n\n\n Créativité\, douceur\, harmonie\, peinture\, écriture\, instant présent… leurs messages vous accompagnera tout au long de vos journées.\nMais au fait…qui sont donc ces fleurs guérisseuses ?\n\n\n← Retour Merci pour votre réponse. ✨\n\n\n					\n						\n							\n							\n						\n						\n						\n						\n						\n							\n								\n									\n										\n										\n									\n									\n										\n										\n									\n								\n							\n						\n						\n							\n								\n									\n									\n										\n									\n									\n									\n								\n							\n						\n					\n				\n\n\n\nNom(obligatoire)\n\n \n			\n				\n					\n						\n						\n						\n					\n				\n				\n			 \n	\n\n\nE-mail(obligatoire)\n\n \n			\n				\n					\n						\n						\n						\n					\n				\n				\n			 \n	\n\n\nSite web\n\n \n			\n				\n					\n						\n						\n						\n					\n				\n				\n			 \n	\n\n\nMessage\n\n \n			\n				\n					\n						\n						\n						\n					\n				\n				\n			\n	\n	\n\n				\n					\n				\n						Envoyer
URL:https://galimanature.fr/event/atelier-art-nature-sophrologie-peindre-sa-fleur-de-bach/
LOCATION:Callian\, 06\, France
ORGANIZER;CN="Magali HUGUES":MAILTO:galimanature@gmail.com
END:VEVENT
BEGIN:VEVENT
DTSTART;TZID=Europe/Paris:20231209T100000
DTEND;TZID=Europe/Paris:20231209T120000
DTSTAMP:20260425T015027
CREATED:20231027T103203Z
LAST-MODIFIED:20251204T191956Z
UID:1378-1702116000-1702123200@galimanature.fr
SUMMARY:Art & Nature " Peindre sa fleur de Bach" (art thérapie)
DESCRIPTION:Accueil › temps pour soi\n\nPEINDRE SA FLEUR de BACH \nDécouvrir sa fleur du moment\, s’en imprégner et créer une composition colorée avec les mots\, formes et couleurs qu’elle nous inspire. \nLaissez votre spontanéité et votre imagination œuvrer pour vous. \nMais au fait…qui sont donc ces fleurs guérisseuses ? \nAtelier Art & Nature\,\nCréativité\, douceur\, harmonie\, peinture\, écriture\, instant présent\, leur message vous accompagnera tout au long de vos journées. \n\n← Retour Merci pour votre réponse. ✨\n\n\n					\n						\n							\n							\n						\n						\n						\n						\n						\n							\n								\n									\n										\n										\n									\n									\n										\n										\n									\n								\n							\n						\n						\n							\n								\n									\n									\n										\n									\n									\n									\n								\n							\n						\n					\n				\n\n\n\nNom(obligatoire)\n\n \n			\n				\n					\n						\n						\n						\n					\n				\n				\n			 \n	\n\n\nE-mail(obligatoire)\n\n \n			\n				\n					\n						\n						\n						\n					\n				\n				\n			 \n	\n\n\nSite web\n\n \n			\n				\n					\n						\n						\n						\n					\n				\n				\n			 \n	\n\n\nMessage\n\n \n			\n				\n					\n						\n						\n						\n					\n				\n				\n			\n	\n	\n\n				\n					\n				\n						Envoyer		\n		\n		\n	 \n\n\nChaque mois\, retrouvez l’atelier « peindre Sa fleur de Bach « \nProchaines dates : samedi 11 novembre – samedi 9 décembre  (10h-12h) – vendredi 15 décembre 2023 (14h – 16h) –\nles samedi 6 janvier 2024\, samedi 3 février 2024\, samedi 2 mars 2024 (10h-12h) \n 
URL:https://galimanature.fr/event/art-nature-peindre-sa-fleur-de-bach/
LOCATION:Les Ateliers de la Brague\, 13 rue Pasteur\, MOUANS SARTOUX\, 06370\, France
ORGANIZER;CN="Magali HUGUES":MAILTO:galimanature@gmail.com
END:VEVENT
END:VCALENDAR