BEGIN:VCALENDAR
VERSION:2.0
PRODID:-//GalimaNature - ECPv6.15.20//NONSGML v1.0//EN
CALSCALE:GREGORIAN
METHOD:PUBLISH
X-ORIGINAL-URL:https://galimanature.fr
X-WR-CALDESC:Évènements pour GalimaNature
REFRESH-INTERVAL;VALUE=DURATION:PT1H
X-Robots-Tag:noindex
X-PUBLISHED-TTL:PT1H
BEGIN:VTIMEZONE
TZID:Europe/Paris
BEGIN:DAYLIGHT
TZOFFSETFROM:+0100
TZOFFSETTO:+0200
TZNAME:CEST
DTSTART:20240331T010000
END:DAYLIGHT
BEGIN:STANDARD
TZOFFSETFROM:+0200
TZOFFSETTO:+0100
TZNAME:CET
DTSTART:20241027T010000
END:STANDARD
BEGIN:DAYLIGHT
TZOFFSETFROM:+0100
TZOFFSETTO:+0200
TZNAME:CEST
DTSTART:20250330T010000
END:DAYLIGHT
BEGIN:STANDARD
TZOFFSETFROM:+0200
TZOFFSETTO:+0100
TZNAME:CET
DTSTART:20251026T010000
END:STANDARD
BEGIN:DAYLIGHT
TZOFFSETFROM:+0100
TZOFFSETTO:+0200
TZNAME:CEST
DTSTART:20260329T010000
END:DAYLIGHT
BEGIN:STANDARD
TZOFFSETFROM:+0200
TZOFFSETTO:+0100
TZNAME:CET
DTSTART:20261025T010000
END:STANDARD
END:VTIMEZONE
BEGIN:VEVENT
DTSTART;TZID=Europe/Paris:20251122T100000
DTEND;TZID=Europe/Paris:20251122T120000
DTSTAMP:20260425T132208
CREATED:20250903T170118Z
LAST-MODIFIED:20251205T151918Z
UID:2945-1763805600-1763812800@galimanature.fr
SUMMARY:🎨  Atelier Peindre sa fleur de Bach - atelier peindre sa fleur de bach mouans-sartoux
DESCRIPTION:Accueil › temps pour soi\n\nPeindre sa fleur de Bach\nRe-découvrez l’univers apaisant et harmonisant des fleurs de Bach à travers cet atelier créatif.\n\n\nTrouvez votre fleur du moment et peignez les formes\, mots et couleurs qu’elle vous inspire. \nAucun besoin de savoir dessiner\, que vous soyez à l'aise avec la création ou pas\, l'essentiel est dans l'instant présent et l'immense bienfait que cette rencontre vous apporte.\n Un atelier créatif et convivial pour se poser\, lâcher le mental\, écrire\, peindre et dessiner\, se faire du bien et passer un moment tout en douceur. Juste pour vous. \nUne approche originale des fleurs de Bach\, pour retrouver équilibre et sérénité tout en découvrant comment ces élixirs ont la merveilleuse capacité d’harmoniser vos émotions et enrichir votre bien-être. \n      En santé naturelle\, créer et prendre du temps pour soi sont des outils précieux.\n\n\n← Retour Merci pour votre réponse. ✨\n\n\n					\n						\n							\n							\n						\n						\n						\n						\n						\n							\n								\n									\n										\n										\n									\n									\n										\n										\n									\n								\n							\n						\n						\n							\n								\n									\n									\n										\n									\n									\n									\n								\n							\n						\n					\n				\n\n\n\nNom(obligatoire)\n\n \n			\n				\n					\n						\n						\n						\n					\n				\n				\n			 \n	\n\n\nE-mail(obligatoire)\n\n \n			\n				\n					\n						\n						\n						\n					\n				\n				\n			 \n	\n\n\nSite web\n\n \n			\n				\n					\n						\n						\n						\n					\n				\n				\n			 \n	\n\n\nMessage\n\n \n			\n				\n					\n						\n						\n						\n					\n				\n				\n			\n	\n	\n\n				\n					\n				\n						Envoyer
URL:https://galimanature.fr/event/atelier-peindre-sa-fleur-de-bach-3/
LOCATION:Les Ateliers de la Brague\, 13 rue Pasteur\, MOUANS SARTOUX\, 06370\, France
ORGANIZER;CN="Magali HUGUES":MAILTO:galimanature@gmail.com
END:VEVENT
END:VCALENDAR