BEGIN:VCALENDAR
VERSION:2.0
PRODID:-//GalimaNature - ECPv6.15.20//NONSGML v1.0//EN
CALSCALE:GREGORIAN
METHOD:PUBLISH
X-ORIGINAL-URL:https://galimanature.fr
X-WR-CALDESC:Évènements pour GalimaNature
REFRESH-INTERVAL;VALUE=DURATION:PT1H
X-Robots-Tag:noindex
X-PUBLISHED-TTL:PT1H
BEGIN:VTIMEZONE
TZID:Europe/Paris
BEGIN:DAYLIGHT
TZOFFSETFROM:+0100
TZOFFSETTO:+0200
TZNAME:CEST
DTSTART:20240331T010000
END:DAYLIGHT
BEGIN:STANDARD
TZOFFSETFROM:+0200
TZOFFSETTO:+0100
TZNAME:CET
DTSTART:20241027T010000
END:STANDARD
BEGIN:DAYLIGHT
TZOFFSETFROM:+0100
TZOFFSETTO:+0200
TZNAME:CEST
DTSTART:20250330T010000
END:DAYLIGHT
BEGIN:STANDARD
TZOFFSETFROM:+0200
TZOFFSETTO:+0100
TZNAME:CET
DTSTART:20251026T010000
END:STANDARD
BEGIN:DAYLIGHT
TZOFFSETFROM:+0100
TZOFFSETTO:+0200
TZNAME:CEST
DTSTART:20260329T010000
END:DAYLIGHT
BEGIN:STANDARD
TZOFFSETFROM:+0200
TZOFFSETTO:+0100
TZNAME:CET
DTSTART:20261025T010000
END:STANDARD
END:VTIMEZONE
BEGIN:VEVENT
DTSTART;TZID=Europe/Paris:20250516T183000
DTEND;TZID=Europe/Paris:20250516T200000
DTSTAMP:20260425T211754
CREATED:20250113T102814Z
LAST-MODIFIED:20251204T193016Z
UID:2375-1747420200-1747425600@galimanature.fr
SUMMARY:Mes Rendez-Vous NatuRo 9 🌿Les plantes médicinales de ma rue\, de mon  jardin. (sortie plantes médicinales) - atelier herborisation
DESCRIPTION:Accueil › sortie herborisation\n\nSortie herborisation à la découverte des plantes médicinales et comestibles qui nous entourent.\n\n\n\n \n\nLes différentes formes galéniques.\n\n \n\nComment conserver les pantes\, les transformer\, les utiliser.
URL:https://galimanature.fr/event/les-plantes-medicinales-de-ma-rue/
LOCATION:Les Ateliers de la Brague\, 13 rue Pasteur\, MOUANS SARTOUX\, 06370\, France
ORGANIZER;CN="Magali HUGUES":MAILTO:galimanature@gmail.com
END:VEVENT
END:VCALENDAR