BEGIN:VCALENDAR
VERSION:2.0
PRODID:-//GalimaNature - ECPv6.15.20//NONSGML v1.0//EN
CALSCALE:GREGORIAN
METHOD:PUBLISH
X-WR-CALNAME:GalimaNature
X-ORIGINAL-URL:https://galimanature.fr
X-WR-CALDESC:Évènements pour GalimaNature
REFRESH-INTERVAL;VALUE=DURATION:PT1H
X-Robots-Tag:noindex
X-PUBLISHED-TTL:PT1H
BEGIN:VTIMEZONE
TZID:Europe/Paris
BEGIN:DAYLIGHT
TZOFFSETFROM:+0100
TZOFFSETTO:+0200
TZNAME:CEST
DTSTART:20240331T010000
END:DAYLIGHT
BEGIN:STANDARD
TZOFFSETFROM:+0200
TZOFFSETTO:+0100
TZNAME:CET
DTSTART:20241027T010000
END:STANDARD
BEGIN:DAYLIGHT
TZOFFSETFROM:+0100
TZOFFSETTO:+0200
TZNAME:CEST
DTSTART:20250330T010000
END:DAYLIGHT
BEGIN:STANDARD
TZOFFSETFROM:+0200
TZOFFSETTO:+0100
TZNAME:CET
DTSTART:20251026T010000
END:STANDARD
BEGIN:DAYLIGHT
TZOFFSETFROM:+0100
TZOFFSETTO:+0200
TZNAME:CEST
DTSTART:20260329T010000
END:DAYLIGHT
BEGIN:STANDARD
TZOFFSETFROM:+0200
TZOFFSETTO:+0100
TZNAME:CET
DTSTART:20261025T010000
END:STANDARD
END:VTIMEZONE
BEGIN:VEVENT
DTSTART;TZID=Europe/Paris:20250705T093000
DTEND;TZID=Europe/Paris:20250705T123000
DTSTAMP:20260425T144053
CREATED:20250621T073009Z
LAST-MODIFIED:20251204T191955Z
UID:2581-1751707800-1751718600@galimanature.fr
SUMMARY:Mon savon au naturel 🫧 (ateliersavon naturel)
DESCRIPTION:Accueil › saponification à froid\n\n\nInitiez vous à la méthode ancestrale de la saponification à froid et apprenez à fabriquer des savons artisanaux respectueux de la peau et de l’environnement.\n\n\n\nSavons 100% fait maison.\nRéalisation de différentes recettes en saponification à froid : \n\nEnsemble nous choisirons 3 recettes différentes.\nParmi les possibilités -> savon de Castille \, savon doux pour bébé et femme enceinte\, savon à barbe\, savon végan\, surgras\, au lait\, à l’argile\, aux fleurs\, à la cire d’abeille\, exfoliant\, parfumé …\nPréparation des produits utilisés et rappel des règles de sécurité dans l’emploi de la soude.\nRéalisation des savons en binômes.\n\nAtelier savons : comment fondre les cires\, huiles et beurres végétaux.. \nRepartez avec vos savons à démouler\, vos connaissances en cosmétique naturelle et des fiches récapitulatives pour ne rien oublier et vous lancer dans la saponification chez vous. \nSavons aux herbes fait maison avec la méthode de saponification à froid\n\n← Retour Merci pour votre réponse. ✨\n\n\n					\n						\n							\n							\n						\n						\n						\n						\n						\n							\n								\n									\n										\n										\n									\n									\n										\n										\n									\n								\n							\n						\n						\n							\n								\n									\n									\n										\n									\n									\n									\n								\n							\n						\n					\n				\n\n\n\nNom(obligatoire)\n\n \n			\n				\n					\n						\n						\n						\n					\n				\n				\n			 \n	\n\n\nE-mail(obligatoire)\n\n \n			\n				\n					\n						\n						\n						\n					\n				\n				\n			 \n	\n\n\nSite web\n\n \n			\n				\n					\n						\n						\n						\n					\n				\n				\n			 \n	\n\n\nMessage\n\n \n			\n				\n					\n						\n						\n						\n					\n				\n				\n			\n	\n	\n\n				\n					\n				\n						Envoyer
URL:https://galimanature.fr/event/mon-savon-au-naturel-4/
LOCATION:Les Ateliers de la Brague\, 13 rue Pasteur\, MOUANS SARTOUX\, 06370\, France
ORGANIZER;CN="Magali HUGUES":MAILTO:galimanature@gmail.com
END:VEVENT
END:VCALENDAR