BEGIN:VCALENDAR
VERSION:2.0
PRODID:-//GalimaNature - ECPv6.15.20//NONSGML v1.0//EN
CALSCALE:GREGORIAN
METHOD:PUBLISH
X-WR-CALNAME:GalimaNature
X-ORIGINAL-URL:https://galimanature.fr
X-WR-CALDESC:Évènements pour GalimaNature
REFRESH-INTERVAL;VALUE=DURATION:PT1H
X-Robots-Tag:noindex
X-PUBLISHED-TTL:PT1H
BEGIN:VTIMEZONE
TZID:Europe/Paris
BEGIN:DAYLIGHT
TZOFFSETFROM:+0100
TZOFFSETTO:+0200
TZNAME:CEST
DTSTART:20240331T010000
END:DAYLIGHT
BEGIN:STANDARD
TZOFFSETFROM:+0200
TZOFFSETTO:+0100
TZNAME:CET
DTSTART:20241027T010000
END:STANDARD
BEGIN:DAYLIGHT
TZOFFSETFROM:+0100
TZOFFSETTO:+0200
TZNAME:CEST
DTSTART:20250330T010000
END:DAYLIGHT
BEGIN:STANDARD
TZOFFSETFROM:+0200
TZOFFSETTO:+0100
TZNAME:CET
DTSTART:20251026T010000
END:STANDARD
BEGIN:DAYLIGHT
TZOFFSETFROM:+0100
TZOFFSETTO:+0200
TZNAME:CEST
DTSTART:20260329T010000
END:DAYLIGHT
BEGIN:STANDARD
TZOFFSETFROM:+0200
TZOFFSETTO:+0100
TZNAME:CET
DTSTART:20261025T010000
END:STANDARD
END:VTIMEZONE
BEGIN:VEVENT
DTSTART;TZID=Europe/Paris:20250425T183000
DTEND;TZID=Europe/Paris:20250425T200000
DTSTAMP:20260425T225815
CREATED:20250113T100843Z
LAST-MODIFIED:20251205T151918Z
UID:2372-1745605800-1745611200@galimanature.fr
SUMMARY:Mes Rendez-Vous NatuRo 8 🌿 Ma pharmacie au naturel - atelier mes rendez vous naturo 8 ma pharmacie au naturel mouans-sartoux
DESCRIPTION:Accueil › plantes médicinales\n\nMa trousse d’urgence pour les petits mots du quotidien. \n\n\n \n\nPlantes médicinales et pharmacie naturelle pour toute la famille\, que choisir ? \n  \nPhytothérapie\, aromathérapie\, eaux florales\, bourgeons\, fleurs de Bach… Découvrez comment complétez et/ou remplacez votre pharmacie avec des produits sains\, naturels\, efficaces pour toute la famille. \n\nAvec Magali Hugues\, conseillère en Plantes et Santé Naturelle
URL:https://galimanature.fr/event/ma-pharmacie-au-naturel/
LOCATION:Les Ateliers de la Brague\, 13 rue Pasteur\, MOUANS SARTOUX\, 06370\, France
ORGANIZER;CN="Magali HUGUES":MAILTO:galimanature@gmail.com
END:VEVENT
END:VCALENDAR