BEGIN:VCALENDAR
VERSION:2.0
PRODID:-//GalimaNature - ECPv6.15.20//NONSGML v1.0//EN
CALSCALE:GREGORIAN
METHOD:PUBLISH
X-ORIGINAL-URL:https://galimanature.fr
X-WR-CALDESC:Évènements pour GalimaNature
REFRESH-INTERVAL;VALUE=DURATION:PT1H
X-Robots-Tag:noindex
X-PUBLISHED-TTL:PT1H
BEGIN:VTIMEZONE
TZID:Europe/Paris
BEGIN:DAYLIGHT
TZOFFSETFROM:+0100
TZOFFSETTO:+0200
TZNAME:CEST
DTSTART:20240331T010000
END:DAYLIGHT
BEGIN:STANDARD
TZOFFSETFROM:+0200
TZOFFSETTO:+0100
TZNAME:CET
DTSTART:20241027T010000
END:STANDARD
BEGIN:DAYLIGHT
TZOFFSETFROM:+0100
TZOFFSETTO:+0200
TZNAME:CEST
DTSTART:20250330T010000
END:DAYLIGHT
BEGIN:STANDARD
TZOFFSETFROM:+0200
TZOFFSETTO:+0100
TZNAME:CET
DTSTART:20251026T010000
END:STANDARD
BEGIN:DAYLIGHT
TZOFFSETFROM:+0100
TZOFFSETTO:+0200
TZNAME:CEST
DTSTART:20260329T010000
END:DAYLIGHT
BEGIN:STANDARD
TZOFFSETFROM:+0200
TZOFFSETTO:+0100
TZNAME:CET
DTSTART:20261025T010000
END:STANDARD
END:VTIMEZONE
BEGIN:VEVENT
DTSTART;TZID=Europe/Paris:20250517T100000
DTEND;TZID=Europe/Paris:20250517T113000
DTSTAMP:20260425T180842
CREATED:20250506T112426Z
LAST-MODIFIED:20250506T112531Z
UID:2649-1747476000-1747481400@galimanature.fr
SUMMARY:Atelier pratique d'herboristerie 🌱cueillette et transformation.
DESCRIPTION:Accueil › atelier bien-être\n\nA TOULON\, Cap-Brun –  (Atelier annulé en cas de pluie) \nBesoin d’Arnica ? Prenez de la pâquerette🌼\nChocs\, bosses\, bleus\, muscles douloureux\, élongations\, claquages…  Comme l’Arnica\, la pâquerette résorbe les hématomes et les entorses en activant la circulation sanguine.   \n\n\n\n\nATELIER PRATIQUE  \nCueillette\, puis fabrication d’un macérât solarisé  \net d’huile médicinale pour toute la famille. \n     Avec Magali HUGUES\, conseillère plantes et santé naturelle \n25€/personne – Inscriptions : 06 15 49 90 51 \n\n\n\n\n🌼Venez découvrir les vertus insoupçonnées de la pâquerette et l’art de la cueillette sensible  \n 🫖 Apprenez quelles autres plantes cueillir ainsi que leurs vertus médicinales. \nEnsemble nous fabriquerons une huile raffermissante pour le buste et une huile médicinale  pour remplacer votre crème à l’arnica. \n                              Vous souhaitez organiser cet atelier chez vous ? Contactez moi !
URL:https://galimanature.fr/event/atelier-pratique-dherboristerie/
LOCATION:Atelier de peinture les Foucards\, 2410 avenue de la résistance\, Toulon\, 83000
ORGANIZER;CN="Magali HUGUES":MAILTO:galimanature@gmail.com
END:VEVENT
END:VCALENDAR