BEGIN:VCALENDAR
VERSION:2.0
PRODID:-//GalimaNature - ECPv6.15.20//NONSGML v1.0//EN
CALSCALE:GREGORIAN
METHOD:PUBLISH
X-WR-CALNAME:GalimaNature
X-ORIGINAL-URL:https://galimanature.fr
X-WR-CALDESC:Évènements pour GalimaNature
REFRESH-INTERVAL;VALUE=DURATION:PT1H
X-Robots-Tag:noindex
X-PUBLISHED-TTL:PT1H
BEGIN:VTIMEZONE
TZID:Europe/Paris
BEGIN:DAYLIGHT
TZOFFSETFROM:+0100
TZOFFSETTO:+0200
TZNAME:CEST
DTSTART:20250330T010000
END:DAYLIGHT
BEGIN:STANDARD
TZOFFSETFROM:+0200
TZOFFSETTO:+0100
TZNAME:CET
DTSTART:20251026T010000
END:STANDARD
BEGIN:DAYLIGHT
TZOFFSETFROM:+0100
TZOFFSETTO:+0200
TZNAME:CEST
DTSTART:20260329T010000
END:DAYLIGHT
BEGIN:STANDARD
TZOFFSETFROM:+0200
TZOFFSETTO:+0100
TZNAME:CET
DTSTART:20261025T010000
END:STANDARD
BEGIN:DAYLIGHT
TZOFFSETFROM:+0100
TZOFFSETTO:+0200
TZNAME:CEST
DTSTART:20270328T010000
END:DAYLIGHT
BEGIN:STANDARD
TZOFFSETFROM:+0200
TZOFFSETTO:+0100
TZNAME:CET
DTSTART:20271031T010000
END:STANDARD
END:VTIMEZONE
BEGIN:VEVENT
DTSTART;TZID=Europe/Paris:20260618T180000
DTEND;TZID=Europe/Paris:20260618T193000
DTSTAMP:20260424T233901
CREATED:20260227T104214Z
LAST-MODIFIED:20260423T144626Z
UID:3509-1781805600-1781811000@galimanature.fr
SUMMARY:🌿Atelier cosmétique naturelle
DESCRIPTION:🌿Atelier cosmétique naturelle : se préparer à l’été\n\n\n  \n\nQue choisir pour une cosmétique naturelle toute simple et naturelle. \nLe soleil\, les plantes de la peau\, les insectes\, les pathologies estivales. \n🫖 Atelier pratique herboristerie  : Fabrication d’une chantilly hydratante pour le corps. (à remporter avec soi) \n\n← Retour Merci pour votre réponse. ✨\n\n\n					\n						\n							\n							\n						\n						\n						\n						\n						\n							\n								\n									\n										\n										\n									\n									\n										\n										\n									\n								\n							\n						\n						\n							\n								\n									\n									\n										\n									\n									\n									\n								\n							\n						\n					\n				\n\n\n\nNom(obligatoire)\n\n \n			\n				\n					\n						\n						\n						\n					\n				\n				\n			 \n	\n\n\nE-mail(obligatoire)\n\n \n			\n				\n					\n						\n						\n						\n					\n				\n				\n			 \n	\n\n\nSite web\n\n \n			\n				\n					\n						\n						\n						\n					\n				\n				\n			 \n	\n\n\nMessage\n\n \n			\n				\n					\n						\n						\n						\n					\n				\n				\n			\n	\n	\n\n				\n					\n				\n						Envoyer
URL:https://galimanature.fr/event/%f0%9f%8c%bfatelier-pratique-de-cosmetique-naturelle/
LOCATION:Les Ateliers de la Brague\, 13 rue Pasteur\, MOUANS SARTOUX\, 06370\, France
ORGANIZER;CN="Magali HUGUES":MAILTO:galimanature@gmail.com
END:VEVENT
END:VCALENDAR