BEGIN:VCALENDAR
VERSION:2.0
PRODID:-//GalimaNature - ECPv6.15.20//NONSGML v1.0//EN
CALSCALE:GREGORIAN
METHOD:PUBLISH
X-ORIGINAL-URL:https://galimanature.fr
X-WR-CALDESC:Évènements pour GalimaNature
REFRESH-INTERVAL;VALUE=DURATION:PT1H
X-Robots-Tag:noindex
X-PUBLISHED-TTL:PT1H
BEGIN:VTIMEZONE
TZID:Europe/Paris
BEGIN:DAYLIGHT
TZOFFSETFROM:+0100
TZOFFSETTO:+0200
TZNAME:CEST
DTSTART:20240331T010000
END:DAYLIGHT
BEGIN:STANDARD
TZOFFSETFROM:+0200
TZOFFSETTO:+0100
TZNAME:CET
DTSTART:20241027T010000
END:STANDARD
BEGIN:DAYLIGHT
TZOFFSETFROM:+0100
TZOFFSETTO:+0200
TZNAME:CEST
DTSTART:20250330T010000
END:DAYLIGHT
BEGIN:STANDARD
TZOFFSETFROM:+0200
TZOFFSETTO:+0100
TZNAME:CET
DTSTART:20251026T010000
END:STANDARD
BEGIN:DAYLIGHT
TZOFFSETFROM:+0100
TZOFFSETTO:+0200
TZNAME:CEST
DTSTART:20260329T010000
END:DAYLIGHT
BEGIN:STANDARD
TZOFFSETFROM:+0200
TZOFFSETTO:+0100
TZNAME:CET
DTSTART:20261025T010000
END:STANDARD
END:VTIMEZONE
BEGIN:VEVENT
DTSTART;TZID=Europe/Paris:20251204T183000
DTEND;TZID=Europe/Paris:20251204T200000
DTSTAMP:20260425T025207
CREATED:20250717T094837Z
LAST-MODIFIED:20251128T142009Z
UID:2818-1764873000-1764878400@galimanature.fr
SUMMARY:🍯 Atelier d’herboriste : je crée mon Oxymel de l'hiver
DESCRIPTION:Au creux de l’hiver : Atelier d’herboriste \n\n\nDécouvrez les trésors cachés dans vos placards de cuisine !\n \n\n\n Venez fabriquer votre oxymel de l’hiver aux vertus protectrices et stimulantes de l’immunité. \nDécouvrez cette véritable bombe d’énergie à base de miel\, vinaigre de cidre et plantes médicinales\, un vrai régal ! \nCe sera l’occasion de parler plantes de l’hiver\, immunité\, herborisation sensible et art de cueillir en respectant la nature. \nVous repartirez avec vos petites notes\, votre préparation et votre fiche recette d'herboriste. Une fois rentré chez vous\, vous pourrez la reproduire\, l'enrichir à votre goût pour l'offrir à vos proches à l'occasion de fêtes. Une jolie façon de prendre soin d'eux 🥰\n 
URL:https://galimanature.fr/event/au-creux-de-lhiver-atelier-dherboriste-%f0%9f%8d%af/
LOCATION:Les Ateliers de la Brague\, 13 rue Pasteur\, MOUANS SARTOUX\, 06370\, France
ORGANIZER;CN="Magali HUGUES":MAILTO:galimanature@gmail.com
END:VEVENT
END:VCALENDAR