BEGIN:VCALENDAR
VERSION:2.0
PRODID:-//GalimaNature - ECPv6.15.20//NONSGML v1.0//EN
CALSCALE:GREGORIAN
METHOD:PUBLISH
X-ORIGINAL-URL:https://galimanature.fr
X-WR-CALDESC:Évènements pour GalimaNature
REFRESH-INTERVAL;VALUE=DURATION:PT1H
X-Robots-Tag:noindex
X-PUBLISHED-TTL:PT1H
BEGIN:VTIMEZONE
TZID:Europe/Paris
BEGIN:DAYLIGHT
TZOFFSETFROM:+0100
TZOFFSETTO:+0200
TZNAME:CEST
DTSTART:20240331T010000
END:DAYLIGHT
BEGIN:STANDARD
TZOFFSETFROM:+0200
TZOFFSETTO:+0100
TZNAME:CET
DTSTART:20241027T010000
END:STANDARD
BEGIN:DAYLIGHT
TZOFFSETFROM:+0100
TZOFFSETTO:+0200
TZNAME:CEST
DTSTART:20250330T010000
END:DAYLIGHT
BEGIN:STANDARD
TZOFFSETFROM:+0200
TZOFFSETTO:+0100
TZNAME:CET
DTSTART:20251026T010000
END:STANDARD
BEGIN:DAYLIGHT
TZOFFSETFROM:+0100
TZOFFSETTO:+0200
TZNAME:CEST
DTSTART:20260329T010000
END:DAYLIGHT
BEGIN:STANDARD
TZOFFSETFROM:+0200
TZOFFSETTO:+0100
TZNAME:CET
DTSTART:20261025T010000
END:STANDARD
END:VTIMEZONE
BEGIN:VEVENT
DTSTART;TZID=Europe/Paris:20250214T183000
DTEND;TZID=Europe/Paris:20250214T200000
DTSTAMP:20260426T004925
CREATED:20250110T104200Z
LAST-MODIFIED:20250113T095546Z
UID:2342-1739557800-1739563200@galimanature.fr
SUMMARY:Mes Rendez-Vous NatuRo 6 🌿 Au creux de l’hiver\, atelier pratique d’herboristerie 🫖
DESCRIPTION:Atelier pratique d’herboriste\n🍯Venez fabriquer votre oxymel de l’hiver aux vertus protectrices et stimulantes de l’immunité. Une vraie bombe d’énergie !\n\n\n  \nOxymel de l’hiver : Plantes\, feuilles\, fruits\, racines… la recette n’aura plus de secrets pour vous !\nDécouvrez les trésors cachés dans vos placards de cuisine ! 🍯 \n  \nCet atelier convivial sera l’occasion de parler plantes de l’hiver\, immunité\, herborisation sensible et art de cueillir en respectant la nature. \n\n\nVous repartirez avec vos petites notes\, votre préparation et votre fiche recette d’herboriste.
URL:https://galimanature.fr/event/atelier-pratique-d-herboristerie/
LOCATION:Les Ateliers de la Brague\, 13 rue Pasteur\, MOUANS SARTOUX\, 06370\, France
ORGANIZER;CN="Magali HUGUES":MAILTO:galimanature@gmail.com
END:VEVENT
END:VCALENDAR